Workbook

Sheet 총괄표
A1: 2016년도 2차 추가경정 세입ㆍ세출 예산서
A2: (샬롬노인종합센터 입소)
A3: (1) 세입ㆍ세출 예산 총괄
A4: 세입총괄 | G4: 세출총괄
A5: 과목 | D5: 예산액 (A) | E5: 전년도 예산액 (B) | F5: 증감 (A)-(B) | G5: 과목 | I5: 예산액 (A) | J5: 전년도 예산액 (B) | K5: 증감 (A)-(B)
A6: 관항 | G6: 관항
A7: 입소자부담금수입 | D7: =D8 -> 70510520 | E7: =E8 -> 86276150 | F7: =D7-E7 -> -15765630 | G7: 사무비 | I7: =SUM(I8:I10) -> 369179700 | J7: =SUM(J8:J10) -> 352572790 | K7: =I7-J7 -> 16606910
B8: 입소비용수입 | D8: =[1]세입내역!D5 -> 70510520 | E8: =[1]세입내역!E6 -> 86276150 | F8: =D8-E8 -> -15765630 | H8: 인건비 | I8: =[1]세출내역!D6 -> 343579700 | J8: =[1]세출내역!E6 -> 326072790 | K8: =I8-J8 -> 17506910
A9: 보조금수입 | D9: =D10 -> 24540000 | E9: =E10 -> 10000000 | F9: =D9-E9 -> 14540000 | H9: 업무추진비 | I9: =[1]세출내역!D32 -> 1400000 | J9: =[1]세출내역!E32 -> 1500000 | K9: =I9-J9 -> -100000
B10: 경상보보금수입 | D10: =[1]세입내역!D15 -> 24540000 | E10: =[1]세입내역!E15 -> 10000000 | F10: =D10-E10 -> 14540000 | H10: 운영비 | I10: =[1]세출내역!D36 -> 24200000 | J10: =[1]세출내역!E36 -> 25000000 | K10: =I10-J10 -> -800000
A11: 후원금 | D11: =D12 -> 3000000 | E11: =E12 -> 6000000 | F11: =D11-E11 -> -3000000 | G11: 재산조성비 | I11: =I12 -> 27960000 | J11: =J12 -> 15040000 | K11: =I11-J11 -> 12920000
B12: 후원금 | D12: =[1]세입내역!D19 -> 3000000 | E12: =[1]세입내역!E21 -> 6000000 | F12: =D12-E12 -> -3000000 | H12: 시설비 | I12: =[1]세출내역!D44 -> 27960000 | J12: =[1]세출내역!E44 -> 15040000 | K12: =I12-J12 -> 12920000
A13: 요양급여수입 | D13: =D14 -> 315192530 | E13: =E14 -> 277415350 | F13: =D13-E13 -> 37777180 | G13: 사업비 | I13: =SUM(I14:I15) -> 40190000 | J13: =SUM(J14:J15) -> 42700000 | K13: =I13-J13 -> -2510000
B14: 장기요양급여수입 | D14: =[1]세입내역!D24 -> 315192530 | E14: =[1]세입내역!E24 -> 277415350 | F14: =D14-E14 -> 37777180 | H14: 운영비 | I14: =[1]세출내역!D52 -> 37190000 | J14: =[1]세출내역!E52 -> 36300000 | K14: =I14-J14 -> 890000
A15: 전입금 | D15: =D16 -> 1000000 | E15: =E16 -> 1000000 | F15: =D15-E15 -> 0 | H15: 사업비 | I15: =[1]세출내역!D60 -> 3000000 | J15: =[1]세출내역!E60 -> 6400000 | K15: =I15-J15 -> -3400000
B16: 전입금 | D16: =[1]세입내역!D35 -> 1000000 | E16: =[1]세입내역!E35 -> 1000000 | F16: =D16-E16 -> 0 | G16: 잡지출 | I16: =I17 -> 0 | J16: =J17 -> 0 | K16: =I16-J16 -> 0
A17: 이월금 | D17: =D18 -> 11637992 | E17: =E18 -> 11637992 | F17: =D17-E17 -> 0 | H17: 잡지출 | I17: =[1]세출내역!D69 -> 0 | J17: =[1]세출내역!E69 -> 0 | K17: =I17-J17 -> 0
B18: 이월금 | D18: =[1]세입내역!D38 -> 11637992 | E18: =[1]세입내역!E38 -> 11637992 | F18: =D18-E18 -> 0 | G18: 예비비및기타 | I18: =I19 -> 601342 | J18: =J19 -> 66702 | K18: =I18-J18 -> 534640
A19: 잡수입 | D19: =D20 -> 12050000 | E19: =E20 -> 18050000 | F19: =D19-E19 -> -6000000 | H19: 예비비및기타 | I19: =[1]세출내역!D73 -> 601342 | J19: =[1]세출내역!E73 -> 66702 | K19: =I19-J19 -> 534640
B20: 잡수입 | D20: =[1]세입내역!D41 -> 12050000 | E20: =[1]세입내역!E41 -> 18050000 | F20: =D20-E20 -> -6000000
A21: 세입총계 | D21: =D7+D11+D9+D13+D17+D15+D19 -> 437931042 | E21: =E7+E11+E9+E13+E17+E15+E19 -> 410379492 | F21: =D21-E21 -> 27551550 | G21: 세출총계 | I21: =I7+I11+I13+I16+I18 -> 437931042 | J21: =J7+J11+J13+J16+J18 -> 410379492 | K21: =I21-J21 -> 27551550
