Workbook

Sheet 총괄표 (입소)
A1: 2016년도 세입ㆍ세출 예산서
A2: (샬롬노인종합센터 입소)
A3: (1) 세입ㆍ세출 예산 총괄
A4: 세입총괄 | G4: 세출총괄
A5: 과목 | D5: 예산액 (A) | E5: 전년도 예산액 (B) | F5: 증감 (A)-(B) | G5: 과목 | I5: 예산액 (A) | J5: 전년도 예산액 (B) | K5: 증감 (A)-(B)
A6: 관항 | G6: 관항
A7: 입소자부담금수입 | D7: =D8 -> 85341280 | E7: =E8 -> 83971170 | F7: =D7-E7 -> 1370110 | G7: 사무비 | I7: =SUM(I8:I10) -> 339438920 | J7: =SUM(J8:J10) -> 359355523 | K7: =I7-J7 -> -19916603
B8: 입소비용수입 | D8: =[1]세입내역!D5 -> 85341280 | E8: =[1]세입내역!E6 -> 83971170 | F8: =D8-E8 -> 1370110 | H8: 인건비 | I8: =[1]세출내역!D6 -> 312938920 | J8: =[1]세출내역!E6 -> 317725523 | K8: =I8-J8 -> -4786603
A9: 보조금수입 | D9: =D10 -> 10000000 | E9: =E10 -> 10000000 | F9: =D9-E9 -> 0 | H9: 업무추진비 | I9: =[1]세출내역!D37 -> 1500000 | J9: =[1]세출내역!E37 -> 10650000 | K9: =I9-J9 -> -9150000
B10: 경상보보금수입 | D10: =[1]세입내역!D15 -> 10000000 | E10: =[1]세입내역!E15 -> 10000000 | F10: =D10-E10 -> 0 | H10: 운영비 | I10: =[1]세출내역!D41 -> 25000000 | J10: =[1]세출내역!E41 -> 30980000 | K10: =I10-J10 -> -5980000
A11: 후원금 | D11: =D12 -> 6000000 | E11: =E12 -> 6000000 | F11: =D11-E11 -> 0 | G11: 재산조성비 | I11: =I12 -> 15040000 | J11: =J12 -> 14040000 | K11: =I11-J11 -> 1000000
B12: 후원금 | D12: =[1]세입내역!D19 -> 6000000 | E12: =[1]세입내역!E21 -> 6000000 | F12: =D12-E12 -> 0 | H12: 시설비 | I12: =[1]세출내역!D49 -> 15040000 | J12: =[1]세출내역!E49 -> 14040000 | K12: =I12-J12 -> 1000000
A13: 요양급여수입 | D13: =D14 -> 272752420 | E13: =E14 -> 288474830 | F13: =D13-E13 -> -15722410 | G13: 사업비 | I13: =SUM(I14:I15) -> 48600000 | J13: =SUM(J14:J15) -> 37000000 | K13: =I13-J13 -> 11600000
B14: 장기요양급여수입 | D14: =[1]세입내역!D24 -> 272752420 | E14: =[1]세입내역!E24 -> 288474830 | F14: =D14-E14 -> -15722410 | H14: 운영비 | I14: =[1]세출내역!D57 -> 36300000 | J14: =[1]세출내역!E57 -> 36000000 | K14: =I14-J14 -> 300000
A15: 전입금 | D15: =D16 -> 1000000 | E15: =E16 -> 1000000 | F15: =D15-E15 -> 0 | H15: 사업비 | I15: =[1]세출내역!D64 -> 12300000 | J15: =[1]세출내역!E64 -> 1000000 | K15: =I15-J15 -> 11300000
B16: 전입금 | D16: =[1]세입내역!D34 -> 1000000 | E16: =[1]세입내역!E34 -> 1000000 | F16: =D16-E16 -> 0 | G16: 잡지출 | I16: =I17 -> 0 | J16: =J17 -> 150477 | K16: =I16-J16 -> -150477
A17: 이월금 | D17: =D18 -> 10000000 | E17: =E18 -> 3000000 | F17: =D17-E17 -> 7000000 | H17: 잡지출 | I17: =[1]세출내역!D75 -> 0 | J17: =[1]세출내역!E75 -> 150477 | K17: =I17-J17 -> -150477
B18: 이월금 | D18: =[1]세입내역!D37 -> 10000000 | E18: =[1]세입내역!E37 -> 3000000 | F18: =D18-E18 -> 7000000 | G18: 예비비및기타 | I18: =I19 -> 64780 | J18: =J19 -> 0 | K18: =I18-J18 -> 64780
A19: 잡수입 | D19: =D20 -> 18050000 | E19: =E20 -> 18100000 | F19: =D19-E19 -> -50000 | H19: 예비비및기타 | I19: =[1]세출내역!D79 -> 64780 | J19: =[1]세출내역!E79 -> 0 | K19: =I19-J19 -> 64780
B20: 잡수입 | D20: =[1]세입내역!D40 -> 18050000 | E20: =[1]세입내역!E40 -> 18100000 | F20: =D20-E20 -> -50000
A21: 세입총계 | D21: =D7+D11+D9+D13+D17+D15+D19 -> 403143700 | E21: =E7+E11+E9+E13+E17+E15+E19 -> 410546000 | F21: =D21-E21 -> -7402300 | G21: 세출총계 | I21: =I7+I11+I13+I16+I18 -> 403143700 | J21: =J7+J11+J13+J16 -> 410546000 | K21: =I21-J21 -> -7402300

Sheet 총괄표 (방문요양)
A1: 2016년도 세입ㆍ세출 예산서
A2: (샬롬노인종합센터 방문요양)
A3: (1) 세입ㆍ세출 예산 총괄
A4: 세입총괄 | G4: 세출총괄
A5: 과목 | D5: 예산액 (A) | E5: 전년도 예산액 (B) | F5: 증감 (A)-(B) | G5: 과목 | J5: 예산액 (A) | K5: 전년도 예산액 (B) | L5: 증감 (A)-(B)
A6: 관항 | G6: 관항
A7: 입소자부담금수입 | D7: =D8 -> 24633360 | E7: =E8 -> 21379680 | F7: =D7-E7 -> 3253680 | G7: 사무비 | J7: =[2]세출내역!D5 -> 157961290 | K7: =[2]세출내역!E5 -> 135131200 | L7: =J7-K7 -> 22830090
B8: 입소비용수입 | D8: =[2]세입내역!D5 -> 24633360 | E8: =[2]세입내역!E5 -> 21379680 | F8: =D8-E8 -> 3253680 | H8: 인건비 | J8: =[2]세출내역!D6 -> 150861290 | K8: =[2]세출내역!E6 -> 119853080 | L8: =J8-K8 -> 31008210
A9: 요양급여수입 | D9: =D10 -> 139589040 | E9: =E10 -> 121151520 | F9: =D9-E9 -> 18437520 | H9: 업무추진비 | J9: =[2]세출내역!D20 -> 2300000 | K9: =[2]세출내역!D20 -> 2300000 | L9: =J9-K9 -> 0
B10: 장기요양급여수입 | D10: =[2]세입내역!D13 -> 139589040 | E10: =[2]세입내역!E13 -> 121151520 | F10: =D10-E10 -> 18437520 | H10: 운영비 | J10: =[2]세출내역!D25 -> 4800000 | K10: =[2]세출내역!E25 -> 11278120 | L10: =J10-K10 -> -6478120
A11: 전입금 | D11: =D12 -> 1000000 | E11: =E12 -> 2000000 | F11: =D11-E11 -> -1000000 | G11: 재산조성비 | J11: =[2]세출내역!D33 -> 4300000 | K11: =[2]세출내역!E33 -> 5000000 | L11: =J11-K11 -> -700000
B12: 전입금 | D12: =[2]세입내역!D21 -> 1000000 | E12: =[2]세입내역!E21 -> 2000000 | F12: =D12-E12 -> -1000000 | H12: 시설비 | J12: =[2]세출내역!D34 -> 4300000 | K12: =[2]세출내역!E34 -> 5000000 | L12: =J12-K12 -> -700000
A13: 이월금 | D13: =D14 -> 1000000 | E13: =E14 -> 0 | F13: =D13-E13 -> 1000000 | G13: 재산조성비 | J13: =[2]세출내역!D35 -> 500000 | K13: =[2]세출내역!E35 -> 1000000 | L13: =J13-K13 -> -500000
B14: 이월금 | D14: =[2]세입내역!D23 -> 1000000 | E14: 0 | F14: =D14-E14 -> 1000000 | H14: 시설비 | J14: =[2]세출내역!D36 -> 3000000 | K14: =[2]세출내역!E36 -> 3000000 | L14: =J14-K14 -> 0
A15: 잡수입 | D15: =D16 -> 100000 | E15: =E16 -> 100000 | F15: =D15-E15 -> 0 | G15: 사업비 | J15: =[2]세출내역!D40 -> 4000000 | K15: =[2]세출내역!E40 -> 4500000 | L15: =J15-K15 -> -500000
B16: 잡수입 | D16: =[2]세입내역!D27 -> 100000 | E16: =[2]세입내역!E27 -> 100000 | F16: =D16-E16 -> 0 | H16: 운영비 | J16: =[2]세출내역!D41 -> 500000 | K16: 1000000 | L16: =J16-K16 -> -500000
H17: 사업비 | J17: =[2]세출내역!D43 -> 3500000 | K17: =[2]세출내역!E40 -> 4500000 | L17: =J17-K17 -> -1000000
G18: 예비비 | J18: =[2]세출내역!D46 -> 61110 | K18: =K19 -> 0 | L18: =J18-K18 -> 61110
H19: 예비비 | J19: =[2]세출내역!D47 -> 61110 | K19: =[2]세출내역!E46 -> 0 | L19: =J19-K19 -> 61110
A20: 세입총계 | D20: =D7+D9+D11+D13+D15 -> 166322400 | E20: =E7+E9+E11+E13+E15 -> 144631200 | F20: =D20-E20 -> 21691200 | G20: 세출총계 | J20: =J7+J11+J15+J18 -> 166322400 | K20: =K7+K11+K15 -> 144631200 | L20: =J20-K20 -> 21691200
