Workbook

Sheet 총괄표
A1: 2013년도 세입ㆍ세출 예산서
A2: (재가노인지원서비스)
A4: (1) 세입ㆍ세출 예산 총괄
A5: 세입총괄 | G5: 세출총괄
A6: 과목 | D6: 예산액(A) | E6: 전년도예산액(B) | F6: 증감(A-B) | G6: 과목 | J6: 예산액(A) | K6: 전년도예산액(B) | L6: 증감(A-B)
A7: 관항 | G7: 관항
A8: 보조금 수입 | D8: =D9 -> 124320000 | E8: =E9 -> 124320000 | F8: =D8-E8 -> 0 | G8: 사무비 | J8: =J9+J10+J11 -> 112487950 | K8: =K9+K10+K11 -> 105757870 | L8: =J8-K8 -> 6730080
B9: 경상보조금수입 | D9: =세입내역!D6 -> 124320000 | E9: =세입내역!E6 -> 124320000 | F9: =D9-E9 -> 0 | H9: 인건비 | J9: =세출내역!D6 -> 94467950 | K9: =세출내역!E6 -> 89907870 | L9: =J9-K9 -> 4560080
A10: 후원금수입 | D10: =D11 -> 5700000 | E10: =E11 -> 3460000 | F10: =D10-E10 -> 2240000 | H10: 업무추진비 | J10: =세출내역!D27 -> 6960000 | K10: =세출내역!E27 -> 5200000 | L10: =J10-K10 -> 1760000
B11: 후원금수입 | D11: =세입내역!D8 -> 5700000 | E11: =세입내역!E8 -> 3460000 | F11: =D11-E11 -> 2240000 | H11: 운영비 | J11: =세출내역!D31 -> 11060000 | K11: =세출내역!E31 -> 10650000 | L11: =J11-K11 -> 410000
A12: 차입금 | D12: =D13 -> 0 | E12: =E13 -> 0 | F12: =D12-E12 -> 0 | G12: 재산조성비 | J12: =J13 -> 740000 | K12: =K13 -> 1440000 | L12: =J12-K12 -> -700000
B13: 차입금 | D13: 0 | E13: =세입내역!E13 -> 0 | F13: =D13-E13 -> 0 | H13: 시설비 | J13: =세출내역!D42 -> 740000 | K13: =세출내역!E42 -> 1440000 | L13: =J13-K13 -> -700000
A14: 전입금 | D14: =D15 -> 14000000 | E14: =E15 -> 11840000 | F14: =D14-E14 -> 2160000 | G14: 사업비 | J14: =J15+J16 -> 37970000 | K14: =K15+K16 -> 36750000 | L14: =J14-K14 -> 1220000
B15: 전입금 | D15: =세입내역!D17 -> 14000000 | E15: =세입내역!E17 -> 11840000 | F15: =D15-E15 -> 2160000 | H15: 운영비 | J15: 0 | K15: =세출내역!E46 -> 0 | L15: =J15-K15 -> 0
H16: 사업비 | J16: =세출내역!D48 -> 37970000 | K16: =세출내역!E48 -> 36750000 | L16: =J16-K16 -> 1220000
A17: 잡수입 | D17: =D18 -> 7167950 | E17: =E18 -> 4925480 | F17: =D17-E17 -> 2242470 | G17: 상환금 | J17: =J18 -> 0 | K17: =K18 -> 0 | L17: =J17-K17 -> 0
B18: 잡수입 | D18: =세입내역!D22 -> 7167950 | E18: =세입내역!E22 -> 4925480 | F18: =D18-E18 -> 2242470 | H18: 부채상환금 | J18: =세출내역!D81 -> 0 | K18: =세출내역!E80 -> 0 | L18: =J18-K18 -> 0
A19: 이월금 | D19: =D20 -> 10000 | E19: =E20 -> 10000 | F19: =D19-E19 -> 0 | G19: 예비비 | J19: =J20 -> 0 | K19: =K20 -> 607610 | L19: =J19-K19 -> -607610
B20: 이월금 | D20: =세입내역!D18 -> 10000 | E20: =세입내역!E18 -> 10000 | F20: =D20-E20 -> 0 | H20: 예비비 | J20: =세출내역!D83 -> 0 | K20: 607610 | L20: =J20-K20 -> -607610
A21: 세입총계 | D21: =D8+D10+D14+D17+D19 -> 151197950 | E21: =E8+E10+E12+E14+E17+E19 -> 144555480 | F21: =D21-E21 -> 6642470 | G21: 세출총계 | J21: =J8+J12+J14+J19 -> 151197950 | K21: =K8+K12+K14+K17+K19 -> 144555480 | L21: =J21-K21 -> 6642470

Sheet 세입내역
A1: (2) 세입내역
S2: (단위 : 원)
A3: 과 목 | D3: 예산액(A) | E3: 전년도예산액(B) | F3: 증감(A-B) | G3: 산 출 내 역
A4: 관 항 목
A5: 04 보조금 수입 | D5: 124320000 | E5: 124320000 | F5: =D5-E5 -> 0
B6: 41 보조금 수입 | D6: 124320000 | E6: 124320000 | F6: =D6-E6 -> 0
C7: 411 경상보조금 수입 | D7: 124320000 | E7: 124320000 | F7: =D7-E7 -> 0 | G7: *운영비 30,000,000 × 4분기 = 120,000,000 *종사자수당 120,000원 × 3명 × 12월 = 4,320,000
A8: 05 후원금 수입 | D8: =D9 -> 5700000 | E8: 3460000 | F8: =D8-E8 -> 2240000
B9: 51 후원금수입 | D9: =D10+D11 -> 5700000 | E9: 3460000 | F9: =D9-E9 -> 2240000
C10: 511 지정후원금 | D10: 1620000 | E10: 1060000 | F10: =D10-E10 -> 560000 | G10: *지정후원금 | S10: 1620000 | T10: 원
C11: 512 비지정후원금 | D11: 4080000 | E11: 2400000 | F11: =D11-E11 -> 1680000 | G11: 후원자 : | H11: 10000 | I11: 원 | J11: × | K11: 34 | L11: 명 | M11: × | N11: 12 | O11: 개월 | R11: = | S11: 4080000 | T11: 원
A12: 07 차입금 | D12: 0 | E12: 0 | F12: =D12-E12 -> 0
B13: 71 차입금 | D13: 0 | E13: 0 | F13: =D13-E13 -> 0
C14: 712 기타차입금 | D14: 0 | E14: 0 | F14: =D14-E14 -> 0 | G14: *차입금 | R14: = | S14: 0 | T14: 원
A15: 08 전입금 | D15: 14000000 | E15: 11840000 | F15: =D15-E15 -> 2160000
B16: 81 전입금 | D16: 14000000 | E16: 11840000 | F16: =D16-E16 -> 2160000
C17: 811 법인전입금 | D17: 14000000 | E17: 11840000 | F17: =D17-E17 -> 2160000 | G17: *법인회계전입금 : | R17: = | S17: 14000000 | T17: 원
A18: 09 이월금 | D18: 10000 | E18: 10000 | F18: =D18-E18 -> 0
B19: 91 이월금 | D19: 10000 | E19: 10000 | F19: =D19-E19 -> 0
C20: 911 전년도이월금 | D20: 10000 | E20: 10000 | F20: =D20-E20 -> 0 | G20: *이월금 | R20: = | S20: 10000 | T20: 원
A21: 10 잡수입 | D21: =D22 -> 7167950 | E21: 4925480 | F21: =D21-E21 -> 2242470
B22: 101 잡수입 | D22: =D23+D24 -> 7167950 | E22: 4925480 | F22: =D22-E22 -> 2242470
C23: 1012 기타예금이자수입 | D23: 15000 | E23: 15000 | F23: =D23-E23 -> 0 | G23: *예금이자 | R23: = | S23: 15000 | T23: 원
C24: 1013 기타잡수입 | D24: 7152950 | E24: 4910480 | F24: =D24-E24 -> 2242470 | G24: *기타잡수입 | R24: = | S24: 7152950 | T24: 원
A25: 세입총계 | D25: =D5+D8+D12+D15+D18+D21 -> 151197950 | E25: =E5+E8+E12+E15+E18+E21 -> 144555480 | F25: =D25-E25 -> 6642470

Sheet 세출내역
A1: (3) 세출내역
P2: (단위 : 원)
A3: 과 목 | D3: 예산액(A) | E3: 전년도예산액(B) | F3: 증감(A-B) | G3: 산 출 내 역
A4: 관 항 목
A5: 01 사무비 | D5: =D6+D27+D31 -> 112487950 | E5: =E6+E27+E31 -> 105757870 | F5: =D5-E5 -> 6730080
B6: 11 인건비 | D6: =D7+D23+D16+D17+D11 -> 94467950 | E6: =E7+E23+E16+E17+E11 -> 89907870 | F6: =D6-E6 -> 4560080
C7: 111 급여 | D7: =P7+P8+P9 -> 68760000 | E7: 65100000 | F7: =D7-E7 -> 3660000 | G7: ＊센터장 : | H7: 3050000 | I7: 원 | J7: × | K7: 1명 | L7: × | M7: 12 | N7: 월 | O7: = | P7: =H7*1*M7 -> 36600000 | Q7: 원
G8: ＊사회복지사 : | H8: 1530000 | I8: 원 | J8: × | K8: 1명 | L8: × | M8: 12 | N8: 월 | O8: = | P8: =H8*1*M8 -> 18360000 | Q8: 원
G9: ＊사무원 : | H9: 1150000 | I9: 원 | J9: × | K9: 1명 | L9: × | M9: 12 | N9: 월 | O9: = | P9: =H9*1*M9 -> 13800000 | Q9: 원
C11: 114 제수당 | D11: =P11+P12+P13+P14+P15 -> 9720000 | E11: 9720000 | F11: =D11-E11 -> 0 | G11: *가계보조수당: | H11: 30000 | I11: 원 | J11: × | K11: 3명 | L11: × | M11: 12 | N11: 월 | O11: = | P11: 1080000 | Q11: 원
G12: *교통/급식수당: | H12: 50000 | I12: 원 | J12: × | K12: 3명 | L12: × | M12: 12 | N12: 월 | O12: = | P12: 1800000 | Q12: 원
G13: *:사회복지사수당 | H13: 50000 | I13: 원 | J13: × | K13: 3명 | L13: × | M13: 12 | N13: 월 | O13: = | P13: 1800000 | Q13: 원
G14: *가족수당: | H14: 20000 | I14: 원 | J14: × | K14: 3명 | L14: × | M14: 12 | N14: 월 | O14: = | P14: 720000 | Q14: 원
G15: *종사자수당: | H15: 120000 | I15: 원 | J15: × | K15: 3명 | L15: × | M15: 12 | N15: 월 | O15: = | P15: =H15*3*M15 -> 4320000 | Q15: 원
C16: 115 퇴직적립금 | D16: =P16 -> 7040000 | E16: 6540000 | F16: =D16-E16 -> 500000 | G16: *퇴직적립금 : | H16: 84480000 | I16: 원 | J16: × | K16: 0.083333333 | O16: = | P16: 7040000 | Q16: 원
C17: 116 사회보험부담금 | D17: =P17+P18+P19+P20+P21+P22 -> 7647950 | E17: 7147870 | F17: =D17-E17 -> 500080 | G17: *건강보험 : | H17: 84480000 | I17: 원 | J17: × | K17: 2.9 | L17: % | O17: = | P17: =ROUND(H17*K17%,-1) -> 2449920 | Q17: 원
G18: *요양보험 : | H18: 2449920 | I18: 원 | J18: × | K18: 6.55 | L18: % | O18: = | P18: =ROUND(H18*K18%,-1) -> 160470 | Q18: 원
G19: *국민연금 : | H19: 84480000 | I19: 원 | J19: × | K19: 4.5 | L19: % | O19: = | P19: =ROUND(H19*K19%,-1) -> 3801600 | Q19: 원
G20: *고용보험 : | H20: 84480000 | I20: 원 | J20: × | K20: 0.8 | L20: % | O20: = | P20: =ROUND(H20*K20%,-1) -> 675840 | Q20: 원
G21: *산재보험 : | H21: 84480000 | I21: 원 | J21: × | K21: 0.74 | L21: % | O21: = | P21: 464120 | Q21: 원
G22: *사용자산재보험 : | P22: 96000 | Q22: 원
C23: 117 기타후생경비 | D23: =P23+P24+P25 -> 1300000 | E23: 1400000 | F23: =D23-E23 -> -100000 | G23: *명절보너스 : | H23: 100000 | I23: 원 | J23: × | K23: 3명 | L23: × | M23: 2 | N23: 회 | O23: = | P23: =H23*3*M23 -> 600000 | Q23: 원
G24: *여름휴가비 : | H24: 100000 | I24: 원 | J24: × | K24: 3명 | O24: = | P24: 300000 | Q24: 원
G25: *복리후생비 | H25: 200000 | I25: 원 | L25: × | M25: 2 | N25: 회 | O25: = | P25: 400000 | Q25: 원
B27: 12 업무추진비 | D27: =D28+D29+D30 -> 6960000 | E27: =E28+E29+E30 -> 5200000 | F27: =D27-E27 -> 1760000
C28: 121 기관운영비 | D28: =P28 -> 600000 | E28: 1000000 | F28: =D28-E28 -> -400000 | G28: *기관운영비 : | H28: 150000 | I28: 원 | J28: × | K28: 4 | L28: 회 | O28: = | P28: =H28*K28 -> 600000 | Q28: 원
C29: 122 직책보조비 | D29: =P29 -> 6000000 | E29: 3600000 | F29: =D29-E29 -> 2400000 | G29: 센터장 : | H29: 500000 | I29: 원 | J29: × | K29: 12 | L29: 개월 | O29: = | P29: =H29*K29 -> 6000000 | Q29: 원
C30: 123 회의비 | D30: =P30 -> 360000 | E30: 600000 | F30: =D30-E30 -> -240000 | G30: *회의비 : | H30: 30000 | I30: 원 | J30: × | K30: 12 | L30: 회 | O30: = | P30: =H30*K30 -> 360000 | Q30: 원
B31: 13 운영비 | D31: =D32+D33+D34+D36+D39 -> 11060000 | E31: =E32+E33+E34+E36+E39 -> 10650000 | F31: =D31-E31 -> 410000
C32: 131 여비 | D32: =P32 -> 1500000 | E32: 1450000 | F32: =D32-E32 -> 50000 | G32: ＊교육여비(출장비) : | H32: 100000 | I32: 원 | J32: × | K32: 3명 | L32: × | M32: 5 | N32: 회 | O32: = | P32: =H32*3*M32 -> 1500000 | Q32: 원
C33: 132 수용비및수수료 | D33: 2000000 | E33: 1800000 | F33: =D33-E33 -> 200000 | G33: ＊사무용품비, 집기구입비, 인쇄비, 수수료 등 | O33: = | P33: 2000000 | Q33: 원
C34: 133 공공요금 | D34: =P35 -> 960000 | E34: 1200000 | F34: =D34-E34 -> -240000 | G34: * 전화요금,우편발송비용,기타 등
H35: 80000 | I35: 원 | J35: × | K35: 12 | L35: 개월 | O35: = | P35: =H35*K35 -> 960000 | Q35: 원
C36: 134 제세공과금 | D36: =P36+P37+P38 -> 2600000 | E36: 2550000 | F36: =D36-E36 -> 50000 | G36: ＊협회비 : | H36: 250000 | I36: 원 | J36: × | K36: 4 | L36: 회 | O36: = | P36: =H36*K36 -> 1000000 | Q36: 원
G37: ＊차량보험비 : | H37: 1000000 | I37: 원 | J37: × | K37: 1 | L37: 회 | O37: = | P37: =H37*K37 -> 1000000 | Q37: 원
G38: ＊기타보험, 연회비 : | H38: 120000 | I38: 원 | J38: × | K38: 5 | L38: 회 | O38: = | P38: =H38*K38 -> 600000 | Q38: 원
C39: 135 차량비 | D39: =P39+P40 -> 4000000 | E39: 3650000 | F39: =D39-E39 -> 350000 | G39: ＊차량유류비 : | H39: 300000 | I39: 원 | J39: × | K39: 12 | L39: 개월 | O39: = | P39: =H39*K39 -> 3600000 | Q39: 원
G40: *차량세금/관리비 : | H40: 100000 | I40: 원 | J40: × | K40: 4 | L40: 회 | O40: = | P40: =H40*K40 -> 400000 | Q40: 원
A41: 02 재산조성비 | D41: =D42 -> 740000 | E41: =E42 -> 1440000 | F41: =F42 -> -700000
B42: 21 시설비 | D42: =D43+D44 -> 740000 | E42: =E43+E44 -> 1440000 | F42: =D42-E42 -> -700000
...
